BEGIN:VCALENDAR
VERSION:2.0
PRODID:icalendar-ruby
CALSCALE:GREGORIAN
BEGIN:VEVENT
DTSTAMP:20260423T214745Z
UID:dfda7b6a-bd2a-4500-89ae-21014cef389d
DTSTART:20230213T150000
DTEND:20230213T163000
LOCATION:133 Peachtree St NE\, Suite 2900
SUMMARY:Meetings of the Finance Committee will be held at Invest Atlanta or
  telephonically from 3:00-4:30 P.M. 
URL:/about-us/events/invest-atlanta-finance-committee-meeting-2-23
END:VEVENT
END:VCALENDAR
