BEGIN:VCALENDAR
VERSION:2.0
PRODID:icalendar-ruby
CALSCALE:GREGORIAN
BEGIN:VEVENT
DTSTAMP:20260423T202838Z
UID:3baaf839-9c74-4cc1-88d4-f8d0e32fa7d1
DTSTART:20230313T150000
DTEND:20230313T163000
LOCATION:133 Peachtree St NE\, Suite 2900
SUMMARY:Meetings of the Finance Committee will be held at Invest Atlanta or
  telephonically from 3:00-4:30 P.M. 
URL:/about-us/events/invest-atlanta-finance-committee-meeting-3-23
END:VEVENT
END:VCALENDAR
