BEGIN:VCALENDAR
VERSION:2.0
PRODID:icalendar-ruby
CALSCALE:GREGORIAN
BEGIN:VEVENT
DTSTAMP:20260426T023518Z
UID:ce215828-251b-484c-ae5d-be7ec8636775
DTSTART:20230718T150000
DTEND:20230718T163000
LOCATION:133 Peachtree St NE\, Suite 2900
SUMMARY:Meetings of the Finance Committee will be held at Invest Atlanta or
  telephonically from 3:00-4:30 P.M. The meeting is canceled.
URL:/about-us/events/invest-atlanta-finance-committee-meeting-7-23
END:VEVENT
END:VCALENDAR
