BEGIN:VCALENDAR
VERSION:2.0
PRODID:icalendar-ruby
CALSCALE:GREGORIAN
BEGIN:VEVENT
DTSTAMP:20260426T023635Z
UID:ecd5a3ee-689d-4826-8fcb-599ea20e5097
DTSTART:20231219T150000
DTEND:20231219T163000
LOCATION:133 Peachtree St NE\, Suite 2900
SUMMARY:Meetings of the Finance Committee will be held at Invest Atlanta fr
 om 3:00-4:30 P.M. 
URL:/about-us/events/invest-atlanta-finance-committee-meeting-12-23
END:VEVENT
END:VCALENDAR
