BEGIN:VCALENDAR
VERSION:2.0
PRODID:icalendar-ruby
CALSCALE:GREGORIAN
BEGIN:VEVENT
DTSTAMP:20260426T023603Z
UID:89870e6e-18c1-4d10-b162-1d9752381855
DTSTART:20230817T130000
DTEND:20230817T140000
LOCATION:133 Peachtree St NE\, Suite 2900
SUMMARY:Invest Atlanta will hold the Housing Committee and the URFA Housin
 g Committee Meeting on the second Thursday of each month. Additional det
 ails to follow.
URL:/about-us/events/invest-atlanta-housing-committee-urfa-housing-committe
 e-8-23
END:VEVENT
END:VCALENDAR
