BEGIN:VCALENDAR
VERSION:2.0
PRODID:icalendar-ruby
CALSCALE:GREGORIAN
BEGIN:VEVENT
DTSTAMP:20260423T155431Z
UID:c3cb2783-dfa3-4dec-86b2-2746f10a84d2
DTSTART:20230914T130000
DTEND:20230914T140000
LOCATION:133 Peachtree St NE\, Suite 2900
SUMMARY:Invest Atlanta will hold the Housing Committee and the URFA Housin
 g Committee Meeting on the second Thursday of each month. Additional det
 ails to follow.
URL:/about-us/events/invest-atlanta-housing-committee-urfa-housing-committe
 e-9-23
END:VEVENT
END:VCALENDAR
