BEGIN:VCALENDAR
VERSION:2.0
PRODID:icalendar-ruby
CALSCALE:GREGORIAN
BEGIN:VEVENT
DTSTAMP:20260426T023854Z
UID:e7d90a80-1727-475b-8c01-661e855ff225
DTSTART:20231214T153000
DTEND:20231214T163000
LOCATION:133 Peachtree St NE\, Suite 2900
SUMMARY:Invest Atlanta will hold the Economic Development Committee Meeti
 ng on the second Thursday of each month. 
URL:/about-us/events/invest-atlanta-economic-development-committee-meeting-
 12-23
END:VEVENT
END:VCALENDAR
