BEGIN:VCALENDAR
VERSION:2.0
PRODID:icalendar-ruby
CALSCALE:GREGORIAN
BEGIN:VEVENT
DTSTAMP:20260426T023207Z
UID:3bdff986-0357-4229-bea0-2082437a4c8f
DTSTART:20230314T180000
DTEND:20230314T190000
LOCATION:
SUMMARY:\n\n\n\n\n\n\nLearn technical elements\, including terms sheets\, d
 eal structures\, and forecasting to help founders master negotiation and e
 liminate learning-as-you-go. Understand how strategic elements\, such as p
 itching\, storytelling\, personal brand\, and communication ensure you put
  your best foot forward from day one.\n\n\n\n\n \n\n\n\n\n\n\n \n\n\n\n\
 n 
URL:/about-us/events/capital-ready
END:VEVENT
END:VCALENDAR
