BEGIN:VCALENDAR
VERSION:2.0
PRODID:icalendar-ruby
CALSCALE:GREGORIAN
BEGIN:VEVENT
DTSTAMP:20260419T193149Z
UID:b74021b3-b2d3-4347-96dc-a1fd78afee90
DTSTART:20230323T180000
DTEND:20230323T190000
LOCATION:
SUMMARY:\n\n\n\n\n\n\nThe Atlanta Recovery Loan Program is a new loan progr
 am\, offering low-cost loans to help small businesses grow ownership of ta
 ngible assets — a major challenge for diverse-owned small businesses —
  to help them build wealth and avoid displacement due to changing economic
  conditions.\n\n\n\n\n \n\n\n\n\n\n\n \n\n\n\n\n 
URL:/about-us/events/small-business-loans-qa
END:VEVENT
END:VCALENDAR
