BEGIN:VCALENDAR
VERSION:2.0
PRODID:icalendar-ruby
CALSCALE:GREGORIAN
BEGIN:VEVENT
DTSTAMP:20260426T022922Z
UID:090d7a8a-2120-4117-8e2e-2406f25b7404
DTSTART:20230427T180000
DTEND:20230427T193000
LOCATION:2800 Campbellton Road SW Atlanta\, GA 30311
SUMMARY:Network with other small business owners\, Invest Atlanta team memb
 ers\, business associations and technical assistance providers.\n\n \n\n\
 n \n
URL:/about-us/events/small-business-mixer-mary-parker
END:VEVENT
END:VCALENDAR
