BEGIN:VCALENDAR
VERSION:2.0
PRODID:icalendar-ruby
CALSCALE:GREGORIAN
BEGIN:VEVENT
DTSTAMP:20260423T202312Z
UID:272943c3-f23b-4e28-9c39-712dec93346e
DTSTART:20230509T180000
DTEND:20230509T190000
LOCATION:
SUMMARY:Join our legal consultants to hear what common mistakes business ow
 ners make and how you can avoid similar mistakes. Learn what to look for 
 in commercial leases\, understand terms and conditions\, and discover wha
 t items to negotiate.
URL:/about-us/events/negotiating-commercial-lease-terms
END:VEVENT
END:VCALENDAR
