BEGIN:VCALENDAR
VERSION:2.0
PRODID:icalendar-ruby
CALSCALE:GREGORIAN
BEGIN:VEVENT
DTSTAMP:20260425T230339Z
UID:e48c3551-2a94-4f51-9cda-a44f183c165d
DTSTART:20230524T180000
DTEND:20230524T193000
LOCATION:756 West Peachtree Street NW\, Atlanta\, GA 30308
SUMMARY:Network with other small business owners\, Invest Atlanta team memb
 ers\, business associations and technical assistance providers.\n\n \n\n\
 n \n
URL:/about-us/events/small-business-mixer-coda
END:VEVENT
END:VCALENDAR
