BEGIN:VCALENDAR
VERSION:2.0
PRODID:icalendar-ruby
CALSCALE:GREGORIAN
BEGIN:VEVENT
DTSTAMP:20260423T202553Z
UID:1e4705b1-2d61-4ff1-bdcd-20982798d3df
DTSTART:20230720T180000
DTEND:20230720T190000
LOCATION:
SUMMARY:During the ATLinBusiness Open for Business Q &amp\; A webinar\, att
 endees will learn about our no-cost loan and grant application assistance\
 , the benefits\, eligibility requirements and application process. 
URL:/about-us/events/ofb-app-assistance
END:VEVENT
END:VCALENDAR
