BEGIN:VCALENDAR
VERSION:2.0
PRODID:icalendar-ruby
CALSCALE:GREGORIAN
BEGIN:VEVENT
DTSTAMP:20260426T023313Z
UID:28d2009e-3f7e-45ca-899d-b481957c6df7
DTSTART:20230728T093000
DTEND:20230728T103000
LOCATION:133 Peachtree St NE\, Suite 2900
SUMMARY:Invest Atlanta will hold a Special Called Meeting of the Urban Resi
 dential Finance Authority of the City of Atlanta\, Georgia\, Housing Commi
 ttee Meeting 
URL:/about-us/events/invest-atlanta-housing-committee-urfa-housing-committe
 e-7-23-special
END:VEVENT
END:VCALENDAR
