BEGIN:VCALENDAR
VERSION:2.0
PRODID:icalendar-ruby
CALSCALE:GREGORIAN
BEGIN:VEVENT
DTSTAMP:20260425T110100Z
UID:0a898dfc-6244-48c7-9817-a35d6edd8876
DTSTART:20230909T090000
DTEND:20230909T110000
LOCATION:Atlanta Technical College\,1560 Metropolitan Pkwy SE Atlanta\, GA 
 30310
SUMMARY:Learn more about the newly relaunched Owner Occupied Rehab program.
URL:/about-us/events/owner-occupied-rehab-information-session-3
END:VEVENT
END:VCALENDAR
