BEGIN:VCALENDAR
VERSION:2.0
PRODID:icalendar-ruby
CALSCALE:GREGORIAN
BEGIN:VEVENT
DTSTAMP:20260426T022734Z
UID:45ebadb8-9c64-4daa-bcbb-0eba5935144b
DTSTART:20231026T180000
DTEND:20231026T193000
LOCATION:2160 Metropolitan Parkway Southwest Atlanta\, GA 30315
SUMMARY:Network with other small business owners\, Invest Atlanta team memb
 ers\, business associations and technical assistance providers.\n\n \n\n\
 n \n
URL:/about-us/events/small-business-goodwill-23-1
END:VEVENT
END:VCALENDAR
