BEGIN:VCALENDAR
VERSION:2.0
PRODID:icalendar-ruby
CALSCALE:GREGORIAN
BEGIN:VEVENT
DTSTAMP:20260426T022612Z
UID:c035cfeb-3d8e-49ff-af12-f01f278e3b3a
DTSTART:20231019T180000
DTEND:20231019T190000
LOCATION:
SUMMARY:Business owners are invited to attend a webinar on October 19\, 202
 3 at 6 p.m. to learn about financial topics like bookkeeping\, accounting\
 , reading financial statements\, controlling costs\, and managing cash flo
 w with the purpose of making Planning Smart Financial Decisions for your b
 usiness.
URL:/about-us/events/preparing-for-tomorrow
END:VEVENT
END:VCALENDAR
