BEGIN:VCALENDAR
VERSION:2.0
PRODID:icalendar-ruby
CALSCALE:GREGORIAN
BEGIN:VEVENT
DTSTAMP:20260423T202410Z
UID:c7a3aa07-0ae7-4d96-8aca-6d1c16bb6d44
DTSTART:20231116T180000
DTEND:20231116T190000
LOCATION:
SUMMARY:Join us as we connect with the Small Business Development Center (S
 BDC) to discuss KEY FREE RESOURCES that are here for your Business. The SB
 DC provides tools\, training\, consulting\, and resources at no cost\, to 
 help businesses grow and succeed. These include\, but are not limited to t
 he following categories: - Strategic Planning - Business Development\, Sal
 es &amp\; Customer Service - Marketing Strategy\, ETC. 
URL:/about-us/events/keys-to-grow-your-small-business
END:VEVENT
END:VCALENDAR
