BEGIN:VCALENDAR
VERSION:2.0
PRODID:icalendar-ruby
CALSCALE:GREGORIAN
BEGIN:VEVENT
DTSTAMP:20260423T231329Z
UID:cb376432-ec58-4e38-9e9b-7f010cb8f6cc
DTSTART:20240508T170000
DTEND:20240508T190000
LOCATION:Invest Atlanta Zoom
SUMMARY:If you envision homeownership in the near future\, attend the Inves
 t Atlanta Homebuyer Q&amp\;A Session webinar for a new perspective!
URL:/about-us/events/invest-atlanta-homebuyer-qa-session-webinar-5-8
END:VEVENT
END:VCALENDAR
