BEGIN:VCALENDAR
VERSION:2.0
PRODID:icalendar-ruby
CALSCALE:GREGORIAN
BEGIN:VEVENT
DTSTAMP:20260423T202850Z
UID:dc6afbde-9c13-4f51-9226-1132680bee6f
DTSTART:20241009T170000
DTEND:20241009T190000
LOCATION:Invest Atlanta Zoom
SUMMARY:If you envision homeownership in the near future\, attend the Inves
 t Atlanta Homebuyer Q&amp\;A Session webinar for a new perspective!
URL:/about-us/events/invest-atlanta-homebuyer-qa-session-webinar-10-9
END:VEVENT
END:VCALENDAR
