BEGIN:VCALENDAR
VERSION:2.0
PRODID:icalendar-ruby
CALSCALE:GREGORIAN
BEGIN:VEVENT
DTSTAMP:20260422T153228Z
UID:8e186fee-d7fd-48d2-b5be-54c5ec66de48
DTSTART:20180926T170000
DTEND:20180926T190000
LOCATION:133 Peachtree St NE\, Suite 2900
SUMMARY:Come to Invest Atlanta’s Small Business Loan Seminar and access m
 oney to start or grow your business.
URL:/about-us/events/small-business-loan-seminar-9-26-18
END:VEVENT
END:VCALENDAR
