BEGIN:VCALENDAR
VERSION:2.0
PRODID:icalendar-ruby
CALSCALE:GREGORIAN
BEGIN:VEVENT
DTSTAMP:20260426T022943Z
UID:0fba89a4-9b61-45df-a8ca-369a903e8ae5
DTSTART:20240111T153000
DTEND:20240111T163000
LOCATION:133 Peachtree St NE\, Suite 2900
SUMMARY:Invest Atlanta will hold the Economic Development Committee Meeti
 ng on the second Thursday of each month. Additional details to follow.
URL:/about-us/events/invest-atlanta-economic-development-committee-meeting-
 1-24
END:VEVENT
END:VCALENDAR
