BEGIN:VCALENDAR
VERSION:2.0
PRODID:icalendar-ruby
CALSCALE:GREGORIAN
BEGIN:VEVENT
DTSTAMP:20260426T022805Z
UID:2ebe7628-51c3-4582-942b-2125328e7506
DTSTART:20240411T150000
DTEND:20240411T160000
LOCATION:133 Peachtree St NE\, Suite 2900
SUMMARY:This meeting has been cancelled.
URL:/about-us/events/invest-atlanta-economic-development-committee-meeting-
 4-24
END:VEVENT
END:VCALENDAR
