BEGIN:VCALENDAR
VERSION:2.0
PRODID:icalendar-ruby
CALSCALE:GREGORIAN
BEGIN:VEVENT
DTSTAMP:20260426T022921Z
UID:62c81d2b-3db0-4683-b649-ede967a63edf
DTSTART:20240509T150000
DTEND:20240509T160000
LOCATION:133 Peachtree St NE\, Suite 2900
SUMMARY:Invest Atlanta will hold the Economic Development Committee Meeti
 ng on the second Thursday of each month. Additional details to follow.
URL:/about-us/events/invest-atlanta-economic-development-committee-meeting-
 5-24
END:VEVENT
END:VCALENDAR
