BEGIN:VCALENDAR
VERSION:2.0
PRODID:icalendar-ruby
CALSCALE:GREGORIAN
BEGIN:VEVENT
DTSTAMP:20260426T022612Z
UID:2ae69c7a-0c1d-4f25-ab0f-996b2046e2cb
DTSTART:20240912T150000
DTEND:20240912T160000
LOCATION:133 Peachtree St NE\, Suite 2900
SUMMARY:Invest Atlanta will hold the Economic Development Committee Meeti
 ng on the second Thursday of each month. Additional details to follow.
URL:/about-us/events/invest-atlanta-economic-development-committee-meeting-
 9-24
END:VEVENT
END:VCALENDAR
