BEGIN:VCALENDAR
VERSION:2.0
PRODID:icalendar-ruby
CALSCALE:GREGORIAN
BEGIN:VEVENT
DTSTAMP:20260423T215001Z
UID:09d09b4d-b307-42c1-872e-02cac443026e
DTSTART:20240319T150000
DTEND:20240319T163000
LOCATION:133 Peachtree St NE\, Suite 2900
SUMMARY:Meetings of the Finance Committee will be held at Invest Atlanta fr
 om 3:00-4:30 P.M. 
URL:/about-us/events/invest-atlanta-finance-committee-meeting-3-24
END:VEVENT
END:VCALENDAR
