BEGIN:VCALENDAR
VERSION:2.0
PRODID:icalendar-ruby
CALSCALE:GREGORIAN
BEGIN:VEVENT
DTSTAMP:20260426T044005Z
UID:fb51036a-3339-43e0-85d1-edca56efe74b
DTSTART:20240716T150000
DTEND:20240716T163000
LOCATION:133 Peachtree St NE\, Suite 2900
SUMMARY:Meetings of the Finance Committee will be held at Invest Atlanta fr
 om 3:00-4:30 P.M. 
URL:/about-us/events/invest-atlanta-finance-committee-meeting-7-24
END:VEVENT
END:VCALENDAR
