BEGIN:VCALENDAR
VERSION:2.0
PRODID:icalendar-ruby
CALSCALE:GREGORIAN
BEGIN:VEVENT
DTSTAMP:20260426T023727Z
UID:8db265f1-3698-40b9-86e3-9d4636b862ef
DTSTART:20240813T150000
DTEND:20240813T163000
LOCATION:133 Peachtree St NE\, Suite 2900
SUMMARY:Meetings of the Finance Committee will be held at Invest Atlanta fr
 om 3:00-4:30 P.M. 
URL:/about-us/events/invest-atlanta-finance-committee-meeting-8-24
END:VEVENT
END:VCALENDAR
