BEGIN:VCALENDAR
VERSION:2.0
PRODID:icalendar-ruby
CALSCALE:GREGORIAN
BEGIN:VEVENT
DTSTAMP:20260426T023603Z
UID:68b01a74-87eb-4fe0-9349-458b3ef5d92a
DTSTART:20240509T130000
DTEND:20240509T140000
LOCATION:133 Peachtree St NE\, Suite 2900
SUMMARY:Invest Atlanta will hold the Housing Committee and the URFA Housin
 g Committee Meeting on the second Thursday of each month. Additional det
 ails to follow.
URL:/about-us/events/invest-atlanta-housing-committee-urfa-housing-committe
 e-5-24
END:VEVENT
END:VCALENDAR
