BEGIN:VCALENDAR
VERSION:2.0
PRODID:icalendar-ruby
CALSCALE:GREGORIAN
BEGIN:VEVENT
DTSTAMP:20260423T170013Z
UID:3c6847eb-09ff-425b-a204-3d5598d15d92
DTSTART:20241114T140000
DTEND:20241114T150000
LOCATION:133 Peachtree St NE\, Suite 2900
SUMMARY:Invest Atlanta will hold the Tax Allocation District Project and P
 olicy Review Committee Meeting on the second Thursday of each month. Addi
 tional details to follow.
URL:/about-us/events/invest-atlanta-tax-allocation-district-project-and-pol
 icy-review-committee-meeting-11-24
END:VEVENT
END:VCALENDAR
