BEGIN:VCALENDAR
VERSION:2.0
PRODID:icalendar-ruby
CALSCALE:GREGORIAN
BEGIN:VEVENT
DTSTAMP:20260426T023018Z
UID:a97502c9-181d-44cd-82bf-62e41deef707
DTSTART:20240118T180000
DTEND:20240118T190000
LOCATION:
SUMMARY:Calling all Atlanta business owners and leaders! Join us for an inf
 ormative Zoom Webinar hosted by Invest Atlanta and the City of Atlanta’s
  Office of Revenue. We're here to simplify the business license and zoning
  process\, making it easier for you to navigate the essentials.
URL:/about-us/events/simplifying-the-atlanta-business-license-process
END:VEVENT
END:VCALENDAR
