BEGIN:VCALENDAR
VERSION:2.0
PRODID:icalendar-ruby
CALSCALE:GREGORIAN
BEGIN:VEVENT
DTSTAMP:20260425T110130Z
UID:5bd15d3c-185b-4db0-8905-807d6131022e
DTSTART:20180927T170000
DTEND:20180927T183000
LOCATION:133 Peachtree St NE\, Suite 2900
SUMMARY:If You Envision Homeownership in 2018\, Join INVEST ATLANTA for Add
 itional Perspective
URL:/about-us/events/qa-session-invest-atlanta-homebuyer-incentives-9-27-18
END:VEVENT
END:VCALENDAR
