BEGIN:VCALENDAR
VERSION:2.0
PRODID:icalendar-ruby
CALSCALE:GREGORIAN
BEGIN:VEVENT
DTSTAMP:20260426T022943Z
UID:7da1cfba-ef6b-4515-8320-79a5eddd7a10
DTSTART:20240305T180000
DTEND:20240305T190000
LOCATION:
SUMMARY:\nJoin us for an enlightening webinar on Government Contracting 101
  and the groundbreaking ATLinBusiness Marketplace powered by NowNetwork™
 . Discover the ins and outs of obtaining government contracts and learn ho
 w this new B2B marketplace can connect your business with prominent buyers
  in the Atlanta metro area. Our goal is to provide access to $500 million 
 in government contracts through this innovative platform. Don’t miss thi
 s opportunity to elevate your business to new heights.\n\n \n
URL:/about-us/events/unlocking-atlinbusiness-marketplace
END:VEVENT
END:VCALENDAR
