BEGIN:VCALENDAR
VERSION:2.0
PRODID:icalendar-ruby
CALSCALE:GREGORIAN
BEGIN:VEVENT
DTSTAMP:20260426T023156Z
UID:2555c0f5-b1c3-480d-96af-ae53889a442c
DTSTART:20240314T180000
DTEND:20240314T190000
LOCATION:
SUMMARY:\n\nJoin us for an insightful session with the US Small Business Ad
 ministration (SBA)\, where we delve into the world of Federal Contracts fo
 r small businesses. Discover the array of SBA services\, from funding prog
 rams to counseling and federal contracting certifications. Learn the ropes
  of accessing federal contracts\, understand the business certifications n
 eeded\, and explore how the SBA actively supports small businesses in obta
 ining them. This webinar is your key to unlocking federal opportunities an
 d propelling your small business to new heights.\n\n \n\n
URL:/about-us/events/small-business-big-contracts
END:VEVENT
END:VCALENDAR
