BEGIN:VCALENDAR
VERSION:2.0
PRODID:icalendar-ruby
CALSCALE:GREGORIAN
BEGIN:VEVENT
DTSTAMP:20260426T023038Z
UID:a994a354-216c-4704-95da-39cbaac90f4e
DTSTART:20240221T183000
DTEND:20240221T193000
LOCATION:352 University Ave SW\, Atlanta\, GA 30310
SUMMARY:Talk for Commercial Loans in partnership with TruFund Financial Ser
 vices\n\n\n \n
URL:/about-us/events/commercial-real-estate-acquisition
END:VEVENT
END:VCALENDAR
