BEGIN:VCALENDAR
VERSION:2.0
PRODID:icalendar-ruby
CALSCALE:GREGORIAN
BEGIN:VEVENT
DTSTAMP:20260426T023319Z
UID:c3fed08d-9b32-42a4-83bf-a2a95f9c1a47
DTSTART:20181010T170000
DTEND:20181010T183000
LOCATION:133 Peachtree St NE\, Suite 2900
SUMMARY:If You Envision Homeownership in 2018\, Join INVEST ATLANTA for Add
 itional Perspective
URL:/about-us/events/qa-session-invest-atlanta-homebuyer-incentives-10-10-1
 8
END:VEVENT
END:VCALENDAR
