BEGIN:VCALENDAR
VERSION:2.0
PRODID:icalendar-ruby
CALSCALE:GREGORIAN
BEGIN:VEVENT
DTSTAMP:20260423T203014Z
UID:da47afaf-e90d-4c51-aed9-09a307c689f8
DTSTART:20240425T180000
DTEND:20240425T190000
LOCATION:
SUMMARY:\n\n\nWe're breaking down the barriers that hold back small busines
 ses from creating jobs on paper. \n\n\n
URL:/about-us/events/onboard-with-confidence
END:VEVENT
END:VCALENDAR
