BEGIN:VCALENDAR
VERSION:2.0
PRODID:icalendar-ruby
CALSCALE:GREGORIAN
BEGIN:VEVENT
DTSTAMP:20260423T202553Z
UID:43d3dafd-42ed-49eb-a0f2-bc81e336aa39
DTSTART:20240430T130000
DTEND:20240430T140000
LOCATION:
SUMMARY:The Atlanta Commercial Property Accessed Clean Energy (C-PACE) Prog
 ram is now open for commercial property owners and developers in Atlanta t
 o access financing for energy efficiency\, water efficiency\, renewable en
 ergy\, and resilience improvements to their property. Join us to learn mor
 e about the program guidelines and process for accessing funds.
URL:/about-us/events/atlanta-c-pace-program-webinar
END:VEVENT
END:VCALENDAR
