BEGIN:VCALENDAR
VERSION:2.0
PRODID:icalendar-ruby
CALSCALE:GREGORIAN
BEGIN:VEVENT
DTSTAMP:20260423T231329Z
UID:5e940d9f-1ad6-4737-945d-d8f8ec51bdf5
DTSTART:20240502T180000
DTEND:20240502T193000
LOCATION:352 University Avenue Southwest Atlanta\, GA 30310
SUMMARY:\nCelebrate Small Business Week at a collaborative event co-hosted 
 by Invest Atlanta and the Delta Airlines Small Business Program.\n
URL:/about-us/events/small-business-week-invest-atlanta-and-delta-air-lines
 -partnership-2024
END:VEVENT
END:VCALENDAR
