BEGIN:VCALENDAR
VERSION:2.0
PRODID:icalendar-ruby
CALSCALE:GREGORIAN
BEGIN:VEVENT
DTSTAMP:20260426T022755Z
UID:4852972a-25da-403b-96a6-7c4b48375377
DTSTART:20240608T090000
DTEND:20240608T130000
LOCATION:765 Peeples Street Southwest Atlanta\, GA 30310
SUMMARY:The Invest Atlanta Homeownership Month Open House Tour 2024 is a
  free event designed to provide homebuyers helpful information to purchase
  a home in Southwest Atlanta with Invest Atlanta down payment assistance.\
 n\nEnjoy a self-guided tour of available homes for sale in the Oakland Cit
 y\, Venetian Hills and Bush Mountain neighborhoods starting from Herman J.
  Russell West End Academy.\n\nTOUR HOMES FOR SALE\n\n\n	Oakland City\n	Ven
 etian Hills\n	Westview\n\n\nAvailable homes for sale\, located within 3 mi
 les of Herman J. Russell West End Academy\, are featured on an event map. 
 View homes at your own pace\, meet community leaders and get to know the b
 eautiful neighborhoods located in Southwest Atlanta.
URL:/about-us/events/homeownership-month-open-house-tour-2024
END:VEVENT
END:VCALENDAR
