BEGIN:VCALENDAR
VERSION:2.0
PRODID:icalendar-ruby
CALSCALE:GREGORIAN
BEGIN:VEVENT
DTSTAMP:20260423T150923Z
UID:060b8db8-74fd-4b79-9420-c9fc94e9fb14
DTSTART:20240606T173000
DTEND:20240606T190000
LOCATION:Pittsburgh Yards\, 352 University Avenue Southwest Atlanta\, GA 30
 310
SUMMARY:The Commercial Down Payment Assistance loan program\, part of the A
 tlanta Open for Business Fund\, provides qualified applicants with up to $
 250\,000 towards the purchase of a commercial property in the city of Atla
 nta. Join us at Pittsburgh Yards\, an Invest Atlanta Small Business Resour
 ce Center\, to learn more about the program qualifications\, meet Invest A
 tlanta staff\, and network with commercial real estate brokers and agents.
URL:/about-us/events/commercial-down-payment-assistance-mixer
END:VEVENT
END:VCALENDAR
