BEGIN:VCALENDAR
VERSION:2.0
PRODID:icalendar-ruby
CALSCALE:GREGORIAN
BEGIN:VEVENT
DTSTAMP:20260426T023313Z
UID:63e2ec7c-a5f4-43f4-867f-cdfb709c4176
DTSTART:20181025T170000
DTEND:20181025T183000
LOCATION:133 Peachtree St NE\, Suite 2900
SUMMARY:If You Envision Homeownership in 2018\, Join INVEST ATLANTA for Add
 itional Perspective
URL:/about-us/events/qa-session-invest-atlanta-homebuyer-incentives-10-25-1
 8
END:VEVENT
END:VCALENDAR
