BEGIN:VCALENDAR
VERSION:2.0
PRODID:icalendar-ruby
CALSCALE:GREGORIAN
BEGIN:VEVENT
DTSTAMP:20260422T012831Z
UID:422f7ea6-c411-41b9-8d54-cdbfdcb45826
DTSTART:20240803T090000
DTEND:20240803T120000
LOCATION:Atlanta Technical College\, 1560 Metropolitan Pkwy SW\, Atlanta\, 
 GA 30310
SUMMARY:Invest Atlanta will conduct two application assistance sessions dur
 ing the open application period for those needing assistance completing an
  application. 
URL:/about-us/events/senior-tax-relief-pilot-program-application-session
END:VEVENT
END:VCALENDAR
