BEGIN:VCALENDAR
VERSION:2.0
PRODID:icalendar-ruby
CALSCALE:GREGORIAN
BEGIN:VEVENT
DTSTAMP:20260425T230005Z
UID:7eb79289-2834-42f6-9e7a-23bfd66c3873
DTSTART:20241106T140000
DTEND:20241106T150000
LOCATION:
SUMMARY:Learn about free technical assistance resources and financing optio
 ns that can help you evaluate the cost-benefit of alternative building ene
 rgy improvements. 
URL:/about-us/events/evaluating-the-cost-benefit-of-alternative-building-en
 ergy-improvements
END:VEVENT
END:VCALENDAR
