BEGIN:VCALENDAR
VERSION:2.0
PRODID:icalendar-ruby
CALSCALE:GREGORIAN
BEGIN:VEVENT
DTSTAMP:20260425T230001Z
UID:b122238a-df05-4ff1-9924-5e2d9ef629cf
DTSTART:20241022T170000
DTEND:20241022T183000
LOCATION:
SUMMARY:House Rules for Homeownership webinars and workshops provide enrich
 ment opportunities for prospective and current homeowners. Classes offer a
  variety of resources that are helpful to achieving and maintaining homeow
 nership. During each 90-minute webinar or in-person workshop\, our communi
 ty and lending partners will share professional insight and answer questio
 ns about credit\, mortgage loan approval\, home maintenance\, foreclosure 
 prevention and more.\n\n 
URL:/about-us/events/house-rules-for-homeownership-webinar-1
END:VEVENT
END:VCALENDAR
