BEGIN:VCALENDAR
VERSION:2.0
PRODID:icalendar-ruby
CALSCALE:GREGORIAN
BEGIN:VEVENT
DTSTAMP:20260419T212546Z
UID:84f802ea-fd5a-4f89-ab3d-1c5f99b9d0c2
DTSTART:20250212T170000
DTEND:20250212T190000
LOCATION:Invest Atlanta Zoom
SUMMARY:The Invest Atlanta Monthly Homebuyer Q &amp\; A webinar occurs the 
 second Wednesday of each month\, January through November.
URL:/about-us/events/invest-atlanta-homebuyer-qa-session-webinar-252
END:VEVENT
END:VCALENDAR
