BEGIN:VCALENDAR
VERSION:2.0
PRODID:icalendar-ruby
CALSCALE:GREGORIAN
BEGIN:VEVENT
DTSTAMP:20260426T044026Z
UID:33b17c0f-56f6-4ee1-acec-95286a0ffde9
DTSTART:20250312T170000
DTEND:20250312T190000
LOCATION:Invest Atlanta Zoom
SUMMARY:The Invest Atlanta Monthly Homebuyer Q &amp\; A webinar occurs the 
 second Wednesday of each month\, January through November.
URL:/about-us/events/invest-atlanta-homebuyer-qa-session-webinar-253
END:VEVENT
END:VCALENDAR
