BEGIN:VCALENDAR
VERSION:2.0
PRODID:icalendar-ruby
CALSCALE:GREGORIAN
BEGIN:VEVENT
DTSTAMP:20260426T022632Z
UID:fcaaef7e-065d-4d61-82b5-2087599cc07a
DTSTART:20250611T170000
DTEND:20250611T190000
LOCATION:Invest Atlanta Zoom
SUMMARY:The Invest Atlanta Monthly Homebuyer Q &amp\; A webinar occurs the 
 second Wednesday of each month\, January through November.
URL:/about-us/events/invest-atlanta-homebuyer-qa-session-webinar-256
END:VEVENT
END:VCALENDAR
