BEGIN:VCALENDAR
VERSION:2.0
PRODID:icalendar-ruby
CALSCALE:GREGORIAN
BEGIN:VEVENT
DTSTAMP:20260422T085622Z
UID:c956951b-2172-40d3-a0f5-39da094770bb
DTSTART:20250910T170000
DTEND:20250910T190000
LOCATION:Invest Atlanta Zoom
SUMMARY:The Invest Atlanta Monthly Homebuyer Q &amp\; A webinar occurs the 
 second Wednesday of each month\, January through November.
URL:/about-us/events/invest-atlanta-homebuyer-qa-session-webinar-259
END:VEVENT
END:VCALENDAR
