BEGIN:VCALENDAR
VERSION:2.0
PRODID:icalendar-ruby
CALSCALE:GREGORIAN
BEGIN:VEVENT
DTSTAMP:20260426T023828Z
UID:d273c599-ee12-4a16-9697-99ecdc71af8f
DTSTART:20250410T130000
DTEND:20250410T140000
LOCATION:133 Peachtree St NE\, Suite 2900
SUMMARY:Invest Atlanta will hold the Housing Committee and the URFA Housin
 g Committee Meeting on the second Thursday of each month. Additional det
 ails to follow.
URL:/about-us/events/invest-atlanta-housing-committee-urfa-housing-committe
 e-4-25
END:VEVENT
END:VCALENDAR
